BEGIN:VCALENDAR
VERSION:2.0
PRODID:DPCALENDAR
CALSCALE:GREGORIAN
BEGIN:VTIMEZONE
TZID:Europe/Paris
X-MICROSOFT-CDO-TZID:3
BEGIN:STANDARD
DTSTART:20251026T010000
TZOFFSETFROM:+0200
TZOFFSETTO:+0100
TZNAME:CET
END:STANDARD
BEGIN:STANDARD
DTSTART:20261025T010000
TZOFFSETFROM:+0200
TZOFFSETTO:+0100
TZNAME:CET
END:STANDARD
BEGIN:DAYLIGHT
DTSTART:20260329T010000
TZOFFSETFROM:+0100
TZOFFSETTO:+0200
TZNAME:CEST
END:DAYLIGHT
END:VTIMEZONE
X-WR-TIMEZONE:Europe/Paris
BEGIN:VEVENT
DTSTART;TZID=Europe/Paris:20250226T183000
DTEND;TZID=Europe/Paris:20250226T193000
UID:ACB68818-6FC5-4ABB-9C6A-E5828030D5EB
SUMMARY:Préparation au baptême
CREATED:20241001T151227Z
DTSTAMP:20241001T151227Z
URL:https://www.paroisse-caudan.fr/tout-l-agenda/preparation-au-bapteme
DESCRIPTION:À l'église (entrée par la porte de la sacristie)
X-ALT-DESC;FMTTYPE=text/html:<p>À l'église (entrée par la porte de la sacristie)</p>
LAST-MODIFIED:20250324T150342Z
SEQUENCE:15033075
LOCATION:Place Louis le Laennec\, 56850 Caudan
GEO:47.81036825;-3.34042772
X-LOCATION-DISPLAYNAME: Église Saints-Pierre-et-Paul
X-ACCESS:1
X-HITS:431
X-COLOR:f5da9d
X-IMAGE-FULL:https://www.paroisse-caudan.fr/images/stories/Actualites/2025/Fevrier_2025/Bapteme.jpeg
X-IMAGE-INTRO:https://www.paroisse-caudan.fr/images/stories/Actualites/2025/Fevrier_2025/Bapteme.jpeg
X-SHOW-END-TIME:0
END:VEVENT
BEGIN:VEVENT
DTSTART;TZID=Europe/Paris:20250312T183000
DTEND;TZID=Europe/Paris:20250312T193000
UID:B2CFD12D-A82B-424C-95FE-C62EBC53C069
SUMMARY:Préparation au baptême
CREATED:20241001T151227Z
DTSTAMP:20241001T151227Z
URL:https://www.paroisse-caudan.fr/tout-l-agenda/preparation-au-bapteme-2
DESCRIPTION:À l'église (entrée par la porte de la sacristie)
X-ALT-DESC;FMTTYPE=text/html:<p>À l'église (entrée par la porte de la sacristie)</p>
LAST-MODIFIED:20250324T150444Z
SEQUENCE:15033137
LOCATION:Place Louis le Laennec\, 56850 Caudan
GEO:47.81036825;-3.34042772
X-LOCATION-DISPLAYNAME: Église Saints-Pierre-et-Paul
X-ACCESS:1
X-HITS:279
X-COLOR:f5da9d
X-IMAGE-FULL:https://www.paroisse-caudan.fr/images/stories/Actualites/2025/Fevrier_2025/Bapteme.jpeg
X-IMAGE-INTRO:https://www.paroisse-caudan.fr/images/stories/Actualites/2025/Fevrier_2025/Bapteme.jpeg
X-SHOW-END-TIME:0
END:VEVENT
BEGIN:VEVENT
DTSTART;TZID=Europe/Paris:20250409T183000
DTEND;TZID=Europe/Paris:20250409T193000
UID:642D9719-EACD-4513-89BD-9FFBCB2B71A0
SUMMARY:Préparation au baptême
CREATED:20241001T151227Z
DTSTAMP:20241001T151227Z
URL:https://www.paroisse-caudan.fr/tout-l-agenda/preparation-au-bapteme-3
DESCRIPTION:À l'église (entrée par la porte de la sacristie)
X-ALT-DESC;FMTTYPE=text/html:<p>À l'église (entrée par la porte de la sacristie)</p>
LAST-MODIFIED:20250324T150701Z
SEQUENCE:15033274
LOCATION:Place Louis le Laennec\, 56850 Caudan
GEO:47.81036825;-3.34042772
X-LOCATION-DISPLAYNAME: Église Saints-Pierre-et-Paul
X-ACCESS:1
X-HITS:225
X-COLOR:f5da9d
X-IMAGE-FULL:https://www.paroisse-caudan.fr/images/stories/Actualites/2025/Fevrier_2025/Bapteme.jpeg
X-IMAGE-INTRO:https://www.paroisse-caudan.fr/images/stories/Actualites/2025/Fevrier_2025/Bapteme.jpeg
X-SHOW-END-TIME:0
END:VEVENT
BEGIN:VEVENT
DTSTART;TZID=Europe/Paris:20250514T183000
DTEND;TZID=Europe/Paris:20250514T193000
UID:7F8BCB03-3606-4A58-97E8-594BDEC5359C
SUMMARY:Préparation au baptême
CREATED:20241001T151227Z
DTSTAMP:20241001T151227Z
URL:https://www.paroisse-caudan.fr/tout-l-agenda/preparation-au-bapteme-4
DESCRIPTION:À l'église (entrée par la porte de la sacristie)
X-ALT-DESC;FMTTYPE=text/html:<p>À l'église (entrée par la porte de la sacristie)</p>
LAST-MODIFIED:20250324T150735Z
SEQUENCE:15033308
LOCATION:Place Louis le Laennec\, 56850 Caudan
GEO:47.81036825;-3.34042772
X-LOCATION-DISPLAYNAME: Église Saints-Pierre-et-Paul
X-ACCESS:1
X-HITS:233
X-COLOR:f5da9d
X-IMAGE-FULL:https://www.paroisse-caudan.fr/images/stories/Actualites/2025/Fevrier_2025/Bapteme.jpeg
X-IMAGE-INTRO:https://www.paroisse-caudan.fr/images/stories/Actualites/2025/Fevrier_2025/Bapteme.jpeg
X-SHOW-END-TIME:0
END:VEVENT
BEGIN:VEVENT
DTSTART;TZID=Europe/Paris:20250618T183000
DTEND;TZID=Europe/Paris:20250618T193000
UID:494F9D41-1ADC-48F6-8DEE-DCD57F6422CF
SUMMARY:Préparation au baptême
CREATED:20241001T151227Z
DTSTAMP:20241001T151227Z
URL:https://www.paroisse-caudan.fr/tout-l-agenda/preparation-au-bapteme-5
DESCRIPTION:À l'église (entrée par la porte de la sacristie)
X-ALT-DESC;FMTTYPE=text/html:<p>À l'église (entrée par la porte de la sacristie)</p>
LAST-MODIFIED:20250324T150807Z
SEQUENCE:15033340
LOCATION:Place Louis le Laennec\, 56850 Caudan
GEO:47.81036825;-3.34042772
X-LOCATION-DISPLAYNAME: Église Saints-Pierre-et-Paul
X-ACCESS:1
X-HITS:25
X-COLOR:f5da9d
X-IMAGE-FULL:https://www.paroisse-caudan.fr/images/stories/Actualites/2025/Fevrier_2025/Bapteme.jpeg
X-IMAGE-INTRO:https://www.paroisse-caudan.fr/images/stories/Actualites/2025/Fevrier_2025/Bapteme.jpeg
X-SHOW-END-TIME:0
END:VEVENT
BEGIN:VEVENT
DTSTART;TZID=Europe/Paris:20250910T183000
DTEND;TZID=Europe/Paris:20250910T193000
UID:4230F627-AC2A-4248-9808-D1634743290D
SUMMARY:Préparation au baptême
CREATED:20241001T151227Z
DTSTAMP:20241001T151227Z
URL:https://www.paroisse-caudan.fr/tout-l-agenda/preparation-au-bapteme-6
DESCRIPTION:À l'église (entrée par la porte de la sacristie)
X-ALT-DESC;FMTTYPE=text/html:<p>À l'église (entrée par la porte de la sacristie)</p>
LAST-MODIFIED:20250324T150835Z
SEQUENCE:15033368
LOCATION:Place Louis le Laennec\, 56850 Caudan
GEO:47.81036825;-3.34042772
X-LOCATION-DISPLAYNAME: Église Saints-Pierre-et-Paul
X-ACCESS:1
X-HITS:17
X-COLOR:f5da9d
X-IMAGE-FULL:https://www.paroisse-caudan.fr/images/stories/Actualites/2025/Fevrier_2025/Bapteme.jpeg
X-IMAGE-INTRO:https://www.paroisse-caudan.fr/images/stories/Actualites/2025/Fevrier_2025/Bapteme.jpeg
X-SHOW-END-TIME:0
END:VEVENT
END:VCALENDAR