BEGIN:VCALENDAR
VERSION:2.0
PRODID:DPCALENDAR
CALSCALE:GREGORIAN
BEGIN:VTIMEZONE
TZID:Europe/Paris
X-MICROSOFT-CDO-TZID:3
BEGIN:STANDARD
DTSTART:20251026T010000
TZOFFSETFROM:+0200
TZOFFSETTO:+0100
TZNAME:CET
END:STANDARD
BEGIN:STANDARD
DTSTART:20261025T010000
TZOFFSETFROM:+0200
TZOFFSETTO:+0100
TZNAME:CET
END:STANDARD
BEGIN:DAYLIGHT
DTSTART:20260329T010000
TZOFFSETFROM:+0100
TZOFFSETTO:+0200
TZNAME:CEST
END:DAYLIGHT
END:VTIMEZONE
X-WR-TIMEZONE:Europe/Paris
BEGIN:VEVENT
DTSTART;TZID=Europe/Paris:20191124T103000
DTEND;TZID=Europe/Paris:20191124T113000
UID:E6AB2295-62F2-455B-A6A1-DF7945E3C832
SUMMARY:Éveil à la foi et liturgie de la Parole, remise de la croix pour les CE2
CREATED:20191123T143654Z
DTSTAMP:20191123T143654Z
URL:https://www.paroisse-caudan.fr/tout-l-agenda/eveil-a-la-foi-et-liturgie-de-la-parole-remise-de-la-croix-pour-les-ce2
DESCRIPTION:
X-ALT-DESC;FMTTYPE=text/html:<p><a href="index.php?option=com_content&amp;view=category&amp;layout=blog&amp;id=116&amp;Itemid=171"></a></p>
LAST-MODIFIED:20191211T173614Z
SEQUENCE:1565960
LOCATION:Place Louis le Laennec\, 56850 Caudan
GEO:47.81036825;-3.34042772
X-LOCATION-DISPLAYNAME: Église Saints-Pierre-et-Paul
X-ACCESS:1
X-HITS:48
X-COLOR:bfe2f5
X-IMAGE-FULL:https://www.paroisse-caudan.fr/images/stories/Mouvements/Liturgie_de_la_Parole_1.jpg
X-IMAGE-INTRO:https://www.paroisse-caudan.fr/images/stories/Mouvements/miniatures/Liturgie_de_la_Parole_miniature.jpg
X-SHOW-END-TIME:0
END:VEVENT
BEGIN:VEVENT
DTSTART;TZID=Europe/Paris:20191208T103000
DTEND;TZID=Europe/Paris:20191208T113000
UID:35BBB7FF-A4FB-4D29-8FF7-669B599E627A
SUMMARY:Éveil à la foi et liturgie de la Parole
CREATED:20191123T134910Z
DTSTAMP:20191123T134910Z
URL:https://www.paroisse-caudan.fr/tout-l-agenda/eveil-a-la-foi-et-liturgie-de-la-parole
DESCRIPTION:
X-ALT-DESC;FMTTYPE=text/html:<p><a href="index.php?option=com_content&amp;view=category&amp;layout=blog&amp;id=116&amp;Itemid=171"></a></p>
LAST-MODIFIED:20191210T185718Z
SEQUENCE:1487288
LOCATION:Place Louis le Laennec\, 56850 Caudan
GEO:47.81036825;-3.34042772
X-LOCATION-DISPLAYNAME: Église Saints-Pierre-et-Paul
X-ACCESS:1
X-HITS:110
X-COLOR:bfe2f5
X-IMAGE-FULL:https://www.paroisse-caudan.fr/images/stories/Mouvements/Liturgie_de_la_Parole_1.jpg
X-IMAGE-INTRO:https://www.paroisse-caudan.fr/images/stories/Mouvements/miniatures/Liturgie_de_la_Parole_miniature.jpg
X-SHOW-END-TIME:1
END:VEVENT
BEGIN:VEVENT
DTSTART;TZID=Europe/Paris:20200112T103000
DTEND;TZID=Europe/Paris:20200112T113000
UID:65674768-2181-43B5-8242-B1946D88B0AF
SUMMARY:Éveil à la foi et liturgie de la Parole
CREATED:20191123T134910Z
DTSTAMP:20191123T134910Z
URL:https://www.paroisse-caudan.fr/tout-l-agenda/eveil-a-la-foi-et-liturgie-de-la-parole-2
DESCRIPTION:
X-ALT-DESC;FMTTYPE=text/html:<p><a href="index.php?option=com_content&amp;view=category&amp;layout=blog&amp;id=116&amp;Itemid=171"></a></p>
LAST-MODIFIED:20191211T173429Z
SEQUENCE:1568719
LOCATION:Place Louis le Laennec\, 56850 Caudan
GEO:47.81036825;-3.34042772
X-LOCATION-DISPLAYNAME: Église Saints-Pierre-et-Paul
X-ACCESS:1
X-HITS:421
X-COLOR:bfe2f5
X-IMAGE-FULL:https://www.paroisse-caudan.fr/images/stories/Mouvements/Liturgie_de_la_Parole_1.jpg
X-IMAGE-INTRO:https://www.paroisse-caudan.fr/images/stories/Mouvements/miniatures/Liturgie_de_la_Parole_miniature.jpg
X-SHOW-END-TIME:0
END:VEVENT
BEGIN:VEVENT
DTSTART;TZID=Europe/Paris:20200209T103000
DTEND;TZID=Europe/Paris:20200209T113000
UID:1A5C569C-FFBF-4F7D-8CDC-E724D5CB3F7F
SUMMARY:Éveil à la foi et liturgie de la Parole
CREATED:20191123T134910Z
DTSTAMP:20191123T134910Z
URL:https://www.paroisse-caudan.fr/tout-l-agenda/eveil-a-la-foi-et-liturgie-de-la-parole-3
DESCRIPTION:
X-ALT-DESC;FMTTYPE=text/html:<p><a href="index.php?option=com_content&amp;view=category&amp;layout=blog&amp;id=116&amp;Itemid=171"></a></p>
LAST-MODIFIED:20191211T173345Z
SEQUENCE:1568675
LOCATION:Place Louis le Laennec\, 56850 Caudan
GEO:47.81036825;-3.34042772
X-LOCATION-DISPLAYNAME: Église Saints-Pierre-et-Paul
X-ACCESS:1
X-HITS:490
X-COLOR:bfe2f5
X-IMAGE-FULL:https://www.paroisse-caudan.fr/images/stories/Mouvements/Liturgie_de_la_Parole_1.jpg
X-IMAGE-INTRO:https://www.paroisse-caudan.fr/images/stories/Mouvements/miniatures/Liturgie_de_la_Parole_miniature.jpg
X-SHOW-END-TIME:0
END:VEVENT
BEGIN:VEVENT
DTSTART;VALUE=DATE:20200426
DTEND;VALUE=DATE:20200427
UID:A3DB94EC-458F-4FCA-9C7C-346CE124191C
SUMMARY:Éveil à la foi et liturgie de la Parole annulés
CREATED:20191123T134910Z
DTSTAMP:20191123T134910Z
URL:https://www.paroisse-caudan.fr/tout-l-agenda/eveil-a-la-foi-et-liturgie-de-la-parole-5
DESCRIPTION:
X-ALT-DESC;FMTTYPE=text/html:<p><a href="index.php?option=com_content&amp;view=category&amp;layout=blog&amp;id=116&amp;Itemid=171"></a></p>
LAST-MODIFIED:20200413T181830Z
SEQUENCE:12284960
LOCATION:Place Louis le Laennec\, 56850 Caudan
GEO:47.81036825;-3.34042772
X-LOCATION-DISPLAYNAME: Église Saints-Pierre-et-Paul
X-ACCESS:1
X-HITS:420
X-COLOR:bfe2f5
X-IMAGE-FULL:https://www.paroisse-caudan.fr/images/stories/Mouvements/Liturgie_de_la_Parole_1.jpg
X-IMAGE-INTRO:https://www.paroisse-caudan.fr/images/stories/Mouvements/miniatures/Liturgie_de_la_Parole_miniature.jpg
X-SHOW-END-TIME:0
END:VEVENT
BEGIN:VEVENT
DTSTART;TZID=Europe/Paris:20200614T103000
DTEND;TZID=Europe/Paris:20200614T113000
UID:2AFDF12C-144F-4F9F-9D41-E142263C05E2
SUMMARY:Éveil à la foi et liturgie de la Parole annulés
CREATED:20191123T134910Z
DTSTAMP:20191123T134910Z
URL:https://www.paroisse-caudan.fr/tout-l-agenda/eveil-a-la-foi-et-liturgie-de-la-parole-6
DESCRIPTION:
X-ALT-DESC;FMTTYPE=text/html:<p><a href="index.php?option=com_content&amp;view=category&amp;layout=blog&amp;id=116&amp;Itemid=171"></a></p>
LAST-MODIFIED:20200526T102438Z
SEQUENCE:15971728
LOCATION:Place Louis le Laennec\, 56850 Caudan
GEO:47.81036825;-3.34042772
X-LOCATION-DISPLAYNAME: Église Saints-Pierre-et-Paul
X-ACCESS:1
X-HITS:377
X-COLOR:bfe2f5
X-IMAGE-FULL:https://www.paroisse-caudan.fr/images/stories/Mouvements/Liturgie_de_la_Parole_1.jpg
X-IMAGE-INTRO:https://www.paroisse-caudan.fr/images/stories/Mouvements/miniatures/Liturgie_de_la_Parole_miniature.jpg
X-SHOW-END-TIME:0
END:VEVENT
END:VCALENDAR