BEGIN:VCALENDAR
VERSION:2.0
PRODID:DPCALENDAR
CALSCALE:GREGORIAN
BEGIN:VTIMEZONE
TZID:Europe/Paris
X-MICROSOFT-CDO-TZID:3
BEGIN:STANDARD
DTSTART:20251026T010000
TZOFFSETFROM:+0200
TZOFFSETTO:+0100
TZNAME:CET
END:STANDARD
BEGIN:STANDARD
DTSTART:20261025T010000
TZOFFSETFROM:+0200
TZOFFSETTO:+0100
TZNAME:CET
END:STANDARD
BEGIN:DAYLIGHT
DTSTART:20260329T010000
TZOFFSETFROM:+0100
TZOFFSETTO:+0200
TZNAME:CEST
END:DAYLIGHT
END:VTIMEZONE
X-WR-TIMEZONE:Europe/Paris
BEGIN:VEVENT
DTSTART;TZID=Europe/Paris:20191109T140000
DTEND;TZID=Europe/Paris:20191109T160000
UID:717AFFF8-4470-411B-8DB2-1C285C440645
SUMMARY:Club ACE au presbytère
CREATED:20191123T142813Z
DTSTAMP:20191123T142813Z
URL:https://www.paroisse-caudan.fr/tout-l-agenda/club-ace-au-presbytere-3
DESCRIPTION:
X-ALT-DESC;FMTTYPE=text/html:<p><a href="index.php?option=com_content&amp;view=category&amp;layout=blog&amp;id=67&amp;Itemid=152"></a></p>
LAST-MODIFIED:20200120T192332Z
SEQUENCE:5028919
LOCATION:2 Rue de la Libération\, 56850 Caudan
GEO:47.81210800;-3.34194020
X-LOCATION-DISPLAYNAME:Presbytère de Caudan
X-ACCESS:1
X-HITS:22
X-COLOR:f5f296
X-IMAGE-FULL:https://www.paroisse-caudan.fr/images/stories/Mouvements/ACE_Logo.jpg
X-IMAGE-INTRO:https://www.paroisse-caudan.fr/images/stories/Mouvements/miniatures/ACE_miniature.JPG
X-SHOW-END-TIME:1
END:VEVENT
BEGIN:VEVENT
DTSTART;TZID=Europe/Paris:20191207T140000
DTEND;TZID=Europe/Paris:20191207T160000
UID:787BC178-6B59-44B0-A576-5BB8090D63C3
SUMMARY:Club ACE au presbytère
CREATED:20191123T133759Z
DTSTAMP:20191123T133759Z
URL:https://www.paroisse-caudan.fr/tout-l-agenda/club-ace-au-presbytere-4
DESCRIPTION:
X-ALT-DESC;FMTTYPE=text/html:<p><a href="index.php?option=com_content&amp;view=category&amp;layout=blog&amp;id=67&amp;Itemid=152" title="Plus d'info..."></a></p>
LAST-MODIFIED:20200120T192436Z
SEQUENCE:5031997
LOCATION:2 Rue de la Libération\, 56850 Caudan
GEO:47.81210800;-3.34194020
X-LOCATION-DISPLAYNAME:Presbytère de Caudan
X-ACCESS:1
X-HITS:79
X-COLOR:f5f296
X-IMAGE-FULL:https://www.paroisse-caudan.fr/images/stories/Mouvements/ACE_Logo.jpg
X-IMAGE-INTRO:https://www.paroisse-caudan.fr/images/stories/Mouvements/miniatures/ACE_miniature.JPG
X-SHOW-END-TIME:1
END:VEVENT
BEGIN:VEVENT
DTSTART;TZID=Europe/Paris:20191221T140000
DTEND;TZID=Europe/Paris:20191221T160000
UID:6C0EA9A4-EDBA-44BD-9EA1-0A2511EC38A6
SUMMARY:Club ACE au presbytère
CREATED:20191123T141706Z
DTSTAMP:20191123T141706Z
URL:https://www.paroisse-caudan.fr/tout-l-agenda/club-ace-au-presbytere-2
DESCRIPTION:
X-ALT-DESC;FMTTYPE=text/html:<p><a href="index.php?option=com_content&amp;view=category&amp;layout=blog&amp;id=67&amp;Itemid=152" title="Plus d'info..."></a></p>
LAST-MODIFIED:20200120T192528Z
SEQUENCE:5029702
LOCATION:2 Rue de la Libération\, 56850 Caudan
GEO:47.81210800;-3.34194020
X-LOCATION-DISPLAYNAME:Presbytère de Caudan
X-ACCESS:1
X-HITS:435
X-COLOR:f5f296
X-IMAGE-FULL:https://www.paroisse-caudan.fr/images/stories/Mouvements/ACE_Logo.jpg
X-IMAGE-INTRO:https://www.paroisse-caudan.fr/images/stories/Mouvements/miniatures/ACE_miniature.JPG
X-SHOW-END-TIME:1
END:VEVENT
BEGIN:VEVENT
DTSTART;TZID=Europe/Paris:20200208T110000
DTEND;TZID=Europe/Paris:20200208T170000
UID:0A38B3E9-1587-4AEE-8F5F-6D72DB68E34E
SUMMARY:Interclub ACE à la Maison des Frères de Ploërmel 
CREATED:20191123T141706Z
DTSTAMP:20191123T141706Z
URL:https://www.paroisse-caudan.fr/tout-l-agenda/interclub-ace-a-la-maison-des-freres-de-ploermel
DESCRIPTION:
X-ALT-DESC;FMTTYPE=text/html:<p><a href="index.php?option=com_content&amp;view=category&amp;layout=blog&amp;id=67&amp;Itemid=152" title="Plus d'info..."></a></p>
LAST-MODIFIED:20200121T133117Z
SEQUENCE:5094851
LOCATION:1 Boulevard Foch\, 56800  Ploërmel
GEO:47.93188800;-2.40004000
X-LOCATION-DISPLAYNAME:Maison des Frères de Ploërmel
X-ACCESS:1
X-HITS:417
X-COLOR:f5f296
X-IMAGE-FULL:https://www.paroisse-caudan.fr/images/stories/Mouvements/ACE_Logo.jpg
X-IMAGE-INTRO:https://www.paroisse-caudan.fr/images/stories/Mouvements/miniatures/ACE_miniature.JPG
X-SHOW-END-TIME:1
END:VEVENT
BEGIN:VEVENT
DTSTART;VALUE=DATE:20200516
DTEND;VALUE=DATE:20200517
UID:3E452F53-E87F-47D6-99DB-27C79DCA1191
SUMMARY:Fête du jeu à Hennebont annulée
CREATED:20200312T104443Z
DTSTAMP:20200312T104443Z
URL:https://www.paroisse-caudan.fr/tout-l-agenda/fete-du-jeu-a-hennebont
LAST-MODIFIED:20200428T140239Z
SEQUENCE:4072676
LOCATION:5 Rue Jean Jaurès\, 56700 Hennebont
GEO:0.00000000;0.00000000
X-LOCATION-DISPLAYNAME:Maison St Hervé
X-ACCESS:1
X-HITS:631
X-COLOR:f5f296
X-IMAGE-FULL:https://www.paroisse-caudan.fr/images/stories/Mouvements/ACE_Logo.jpg
X-IMAGE-INTRO:https://www.paroisse-caudan.fr/images/stories/Mouvements/miniatures/ACE_miniature.JPG
X-SHOW-END-TIME:1
END:VEVENT
BEGIN:VEVENT
DTSTART;TZID=Europe/Paris:20210925T093000
DTEND;TZID=Europe/Paris:20210925T163000
UID:87153F87-6F32-4B18-9C8D-0E5C2C9C4C49
SUMMARY:Journée de rentrée pour l'ACE
CREATED:20191123T133759Z
DTSTAMP:20191123T133759Z
URL:https://www.paroisse-caudan.fr/tout-l-agenda/journee-de-rentree-pour-l-ace
DESCRIPTION:
X-ALT-DESC;FMTTYPE=text/html:<p><a href="index.php?option=com_content&amp;view=category&amp;layout=blog&amp;id=67&amp;Itemid=152" title="Plus d'info..."></a></p>
LAST-MODIFIED:20211002T104453Z
SEQUENCE:58655214
LOCATION:Rue de Manéhouarn\, 56240 Plouay\, 81
GEO:47.91740090;-3.33942250
X-LOCATION-DISPLAYNAME:Domaine de Manehouarn
X-ACCESS:1
X-HITS:13
X-COLOR:f5f296
X-IMAGE-FULL:https://www.paroisse-caudan.fr/images/stories/Mouvements/ACE_Logo.jpg
X-IMAGE-INTRO:https://www.paroisse-caudan.fr/images/stories/Mouvements/miniatures/ACE_miniature.JPG
X-SHOW-END-TIME:1
END:VEVENT
BEGIN:VEVENT
DTSTART;TZID=Europe/Paris:20241123T120000
DTEND;TZID=Europe/Paris:20241123T170000
UID:B4D44135-3698-4228-B7C4-FD62E8952C1D
SUMMARY:Interclubs ACE
CREATED:20241114T131851Z
DTSTAMP:20241114T131851Z
URL:https://www.paroisse-caudan.fr/tout-l-agenda/interclubs-ace
LAST-MODIFIED:20241123T165210Z
SEQUENCE:790399
LOCATION:10 rue du Guiriel\, 56700 Hennebont
GEO:47.80157300;-3.28456300
X-LOCATION-DISPLAYNAME:Maison paroissiale de l'Église St-Joseph du Guiriel
X-ACCESS:1
X-HITS:148
X-COLOR:f5f296
X-IMAGE-FULL:https://www.paroisse-caudan.fr/images/stories/Mouvements/ACE_2.JPG
X-IMAGE-INTRO:https://www.paroisse-caudan.fr/images/stories/Mouvements/ACE_2_miniature.JPG
X-SHOW-END-TIME:1
END:VEVENT
END:VCALENDAR