BEGIN:VCALENDAR
VERSION:2.0
PRODID:DPCALENDAR
CALSCALE:GREGORIAN
BEGIN:VTIMEZONE
TZID:Europe/Paris
X-MICROSOFT-CDO-TZID:3
BEGIN:STANDARD
DTSTART:20251026T010000
TZOFFSETFROM:+0200
TZOFFSETTO:+0100
TZNAME:CET
END:STANDARD
BEGIN:STANDARD
DTSTART:20261025T010000
TZOFFSETFROM:+0200
TZOFFSETTO:+0100
TZNAME:CET
END:STANDARD
BEGIN:DAYLIGHT
DTSTART:20260329T010000
TZOFFSETFROM:+0100
TZOFFSETTO:+0200
TZNAME:CEST
END:DAYLIGHT
END:VTIMEZONE
X-WR-TIMEZONE:Europe/Paris
BEGIN:VEVENT
DTSTART;TZID=Europe/Paris:20191114T180000
DTEND;TZID=Europe/Paris:20191114T193000
UID:62D15DFA-6515-4057-B443-88A941023063
SUMMARY:Réunion bulletin : choix des articles de décembre 2019
CREATED:20191123T142944Z
DTSTAMP:20191123T142944Z
URL:https://www.paroisse-caudan.fr/tout-l-agenda/reunion-bulletin-choix-des-articles-2
DESCRIPTION:
X-ALT-DESC;FMTTYPE=text/html:<p><a href="index.php?option=com_content&amp;view=category&amp;layout=blog&amp;id=85&amp;filter_tag[0]=&amp;Itemid=162#reunions"></a></p>
LAST-MODIFIED:20200112T211126Z
SEQUENCE:4344102
LOCATION:2 Rue de la Libération\, 56850 Caudan
GEO:47.81210800;-3.34194020
X-LOCATION-DISPLAYNAME:Presbytère de Caudan
X-ACCESS:1
X-HITS:68
X-COLOR:d5edd7
X-IMAGE-FULL:https://www.paroisse-caudan.fr/images/stories/Mouvements/Bulletin.jpg
X-IMAGE-INTRO:https://www.paroisse-caudan.fr/images/stories/Mouvements/miniatures/Bulletin-miniature.jpg
X-SHOW-END-TIME:1
END:VEVENT
BEGIN:VEVENT
DTSTART;TZID=Europe/Paris:20191128T180000
DTEND;TZID=Europe/Paris:20191128T193000
UID:F5DD9846-F885-4F07-B545-FBA6D04A27AA
SUMMARY:Réunion bulletin : relecture
CREATED:20191123T143859Z
DTSTAMP:20191123T143859Z
URL:https://www.paroisse-caudan.fr/tout-l-agenda/reunion-bulletin-relecture-2
DESCRIPTION:
X-ALT-DESC;FMTTYPE=text/html:<p><a href="index.php?option=com_content&amp;view=category&amp;layout=blog&amp;id=85&amp;filter_tag[0]=&amp;Itemid=162#reunions"></a></p>
LAST-MODIFIED:20200110T191031Z
SEQUENCE:4163492
LOCATION:2 Rue de la Libération\, 56850 Caudan
GEO:47.81210800;-3.34194020
X-LOCATION-DISPLAYNAME:Presbytère de Caudan
X-ACCESS:1
X-HITS:142
X-COLOR:d5edd7
X-IMAGE-FULL:https://www.paroisse-caudan.fr/images/stories/Mouvements/Bulletin.jpg
X-IMAGE-INTRO:https://www.paroisse-caudan.fr/images/stories/Mouvements/miniatures/Bulletin-miniature.jpg
X-SHOW-END-TIME:1
END:VEVENT
BEGIN:VEVENT
DTSTART;TZID=Europe/Paris:20191205T180000
DTEND;TZID=Europe/Paris:20191205T193000
UID:34F7CACD-8C8E-4D59-98D7-D8A71FD99531
SUMMARY:Réunion bulletin : choix des articles de janvier 2020
CREATED:20191123T131348Z
DTSTAMP:20191123T131348Z
URL:https://www.paroisse-caudan.fr/tout-l-agenda/reunion-bulletin-choix-des-articles
DESCRIPTION:
X-ALT-DESC;FMTTYPE=text/html:<p><a href="index.php?option=com_content&amp;view=category&amp;layout=blog&amp;id=85&amp;filter_tag[0]=&amp;Itemid=162"></a></p>
LAST-MODIFIED:20200112T211105Z
SEQUENCE:4348637
LOCATION:2 Rue de la Libération\, 56850 Caudan
GEO:47.81210800;-3.34194020
X-LOCATION-DISPLAYNAME:Presbytère de Caudan
X-ACCESS:1
X-HITS:247
X-COLOR:d5edd7
X-IMAGE-FULL:https://www.paroisse-caudan.fr/images/stories/Mouvements/Bulletin.jpg
X-IMAGE-INTRO:https://www.paroisse-caudan.fr/images/stories/Mouvements/miniatures/Bulletin-miniature.jpg
X-SHOW-END-TIME:1
END:VEVENT
BEGIN:VEVENT
DTSTART;TZID=Europe/Paris:20191219T180000
DTEND;TZID=Europe/Paris:20191219T193000
UID:2568C8FB-4C5E-4410-B79A-145F61CC5672
SUMMARY:Réunion bulletin : relecture
CREATED:20191123T141352Z
DTSTAMP:20191123T141352Z
URL:https://www.paroisse-caudan.fr/tout-l-agenda/reunion-bulletin-relecture
DESCRIPTION:
X-ALT-DESC;FMTTYPE=text/html:<p><a href="index.php?option=com_content&amp;view=category&amp;layout=blog&amp;id=85&amp;filter_tag[0]=&amp;Itemid=162"></a></p>
LAST-MODIFIED:20200110T191227Z
SEQUENCE:4165115
LOCATION:2 Rue de la Libération\, 56850 Caudan
GEO:47.81210800;-3.34194020
X-LOCATION-DISPLAYNAME:Presbytère de Caudan
X-ACCESS:1
X-HITS:326
X-COLOR:d5edd7
X-IMAGE-FULL:https://www.paroisse-caudan.fr/images/stories/Mouvements/Bulletin.jpg
X-IMAGE-INTRO:https://www.paroisse-caudan.fr/images/stories/Mouvements/miniatures/Bulletin-miniature.jpg
X-SHOW-END-TIME:1
END:VEVENT
BEGIN:VEVENT
DTSTART;TZID=Europe/Paris:20200109T180000
DTEND;TZID=Europe/Paris:20200109T193000
UID:86668046-A78E-4717-8EF6-4B53394578C8
SUMMARY:Réunion bulletin : choix des articles de février 2020
CREATED:20191123T131348Z
DTSTAMP:20191123T131348Z
URL:https://www.paroisse-caudan.fr/tout-l-agenda/reunion-bulletin-choix-des-articles-4
DESCRIPTION:
X-ALT-DESC;FMTTYPE=text/html:<p><a href="index.php?option=com_content&amp;view=category&amp;layout=blog&amp;id=85&amp;filter_tag[0]=&amp;Itemid=162"></a></p>
LAST-MODIFIED:20200112T211339Z
SEQUENCE:4348791
LOCATION:2 Rue de la Libération\, 56850 Caudan
GEO:47.81210800;-3.34194020
X-LOCATION-DISPLAYNAME:Presbytère de Caudan
X-ACCESS:1
X-HITS:340
X-COLOR:d5edd7
X-IMAGE-FULL:https://www.paroisse-caudan.fr/images/stories/Mouvements/Bulletin.jpg
X-IMAGE-INTRO:https://www.paroisse-caudan.fr/images/stories/Mouvements/miniatures/Bulletin-miniature.jpg
X-SHOW-END-TIME:1
END:VEVENT
BEGIN:VEVENT
DTSTART;TZID=Europe/Paris:20200123T180000
DTEND;TZID=Europe/Paris:20200123T193000
UID:48B4CE5D-F3AB-43F5-9691-1D0331D0D92F
SUMMARY:Réunion bulletin : relecture
CREATED:20191123T141352Z
DTSTAMP:20191123T141352Z
URL:https://www.paroisse-caudan.fr/tout-l-agenda/reunion-bulletin-relecture-3
DESCRIPTION:
X-ALT-DESC;FMTTYPE=text/html:<p><a href="index.php?option=com_content&amp;view=category&amp;layout=blog&amp;id=85&amp;filter_tag[0]=&amp;Itemid=162"></a></p>
LAST-MODIFIED:20200110T191558Z
SEQUENCE:4165326
LOCATION:2 Rue de la Libération\, 56850 Caudan
GEO:47.81210800;-3.34194020
X-LOCATION-DISPLAYNAME:Presbytère de Caudan
X-ACCESS:1
X-HITS:316
X-COLOR:d5edd7
X-IMAGE-FULL:https://www.paroisse-caudan.fr/images/stories/Mouvements/Bulletin.jpg
X-IMAGE-INTRO:https://www.paroisse-caudan.fr/images/stories/Mouvements/miniatures/Bulletin-miniature.jpg
X-SHOW-END-TIME:1
END:VEVENT
BEGIN:VEVENT
DTSTART;TZID=Europe/Paris:20200213T180000
DTEND;TZID=Europe/Paris:20200213T193000
UID:23CAADF2-D700-4B5D-A38D-3EFD66A12369
SUMMARY:Réunion bulletin : choix des articles de mars 2020
CREATED:20191123T131348Z
DTSTAMP:20191123T131348Z
URL:https://www.paroisse-caudan.fr/tout-l-agenda/reunion-bulletin-choix-des-articles-5
DESCRIPTION:
X-ALT-DESC;FMTTYPE=text/html:<p><a href="index.php?option=com_content&amp;view=category&amp;layout=blog&amp;id=85&amp;filter_tag[0]=&amp;Itemid=162"></a></p>
LAST-MODIFIED:20200112T211526Z
SEQUENCE:4348898
LOCATION:2 Rue de la Libération\, 56850 Caudan
GEO:47.81210800;-3.34194020
X-LOCATION-DISPLAYNAME:Presbytère de Caudan
X-ACCESS:1
X-HITS:369
X-COLOR:d5edd7
X-IMAGE-FULL:https://www.paroisse-caudan.fr/images/stories/Mouvements/Bulletin.jpg
X-IMAGE-INTRO:https://www.paroisse-caudan.fr/images/stories/Mouvements/miniatures/Bulletin-miniature.jpg
X-SHOW-END-TIME:1
END:VEVENT
BEGIN:VEVENT
DTSTART;TZID=Europe/Paris:20200227T180000
DTEND;TZID=Europe/Paris:20200227T193000
UID:B0AA952D-7570-4DE7-8C98-2F92AE7DD762
SUMMARY:Réunion bulletin : relecture
CREATED:20191123T141352Z
DTSTAMP:20191123T141352Z
URL:https://www.paroisse-caudan.fr/tout-l-agenda/reunion-bulletin-relecture-4
DESCRIPTION:
X-ALT-DESC;FMTTYPE=text/html:<p><a href="index.php?option=com_content&amp;view=category&amp;layout=blog&amp;id=85&amp;filter_tag[0]=&amp;Itemid=162"></a></p>
LAST-MODIFIED:20200110T191707Z
SEQUENCE:4165395
LOCATION:2 Rue de la Libération\, 56850 Caudan
GEO:47.81210800;-3.34194020
X-LOCATION-DISPLAYNAME:Presbytère de Caudan
X-ACCESS:1
X-HITS:545
X-COLOR:d5edd7
X-IMAGE-FULL:https://www.paroisse-caudan.fr/images/stories/Mouvements/Bulletin.jpg
X-IMAGE-INTRO:https://www.paroisse-caudan.fr/images/stories/Mouvements/miniatures/Bulletin-miniature.jpg
X-SHOW-END-TIME:1
END:VEVENT
BEGIN:VEVENT
DTSTART;TZID=Europe/Paris:20200312T180000
DTEND;TZID=Europe/Paris:20200312T193000
UID:7938001D-DBE8-4C8A-A50A-C5C69B2D5E39
SUMMARY:Réunion bulletin : choix des articles d'avril 2020
CREATED:20191123T131348Z
DTSTAMP:20191123T131348Z
URL:https://www.paroisse-caudan.fr/tout-l-agenda/reunion-bulletin-choix-des-articles-6
DESCRIPTION:
X-ALT-DESC;FMTTYPE=text/html:<p><a href="index.php?option=com_content&amp;view=category&amp;layout=blog&amp;id=85&amp;filter_tag[0]=&amp;Itemid=162"></a></p>
LAST-MODIFIED:20200530T072312Z
SEQUENCE:16308564
LOCATION:2 Rue de la Libération\, 56850 Caudan
GEO:47.81210800;-3.34194020
X-LOCATION-DISPLAYNAME:Presbytère de Caudan
X-ACCESS:1
X-HITS:527
X-COLOR:d5edd7
X-IMAGE-FULL:https://www.paroisse-caudan.fr/images/stories/Mouvements/Bulletin.jpg
X-IMAGE-INTRO:https://www.paroisse-caudan.fr/images/stories/Mouvements/miniatures/Bulletin-miniature.jpg
X-SHOW-END-TIME:1
END:VEVENT
BEGIN:VEVENT
DTSTART;TZID=Europe/Paris:20200326T180000
DTEND;TZID=Europe/Paris:20200326T193000
UID:3E628FC6-FC5E-4C72-91AA-26FA4DD5C52E
SUMMARY:Réunion bulletin : relecture en "télé-bénévolat"
CREATED:20191123T141352Z
DTSTAMP:20191123T141352Z
URL:https://www.paroisse-caudan.fr/tout-l-agenda/reunion-bulletin-relecture-5
DESCRIPTION:
X-ALT-DESC;FMTTYPE=text/html:<p><a href="index.php?option=com_content&amp;view=category&amp;layout=blog&amp;id=85&amp;filter_tag[0]=&amp;Itemid=162"></a></p>
LAST-MODIFIED:20200530T072237Z
SEQUENCE:16304925
X-ACCESS:1
X-HITS:366
X-COLOR:d5edd7
X-IMAGE-FULL:https://www.paroisse-caudan.fr/images/stories/Mouvements/Bulletin.jpg
X-IMAGE-INTRO:https://www.paroisse-caudan.fr/images/stories/Mouvements/miniatures/Bulletin-miniature.jpg
X-SHOW-END-TIME:1
END:VEVENT
BEGIN:VEVENT
DTSTART;TZID=Europe/Paris:20200409T180000
DTEND;TZID=Europe/Paris:20200409T193000
UID:C197E8DD-BB3B-4E3C-B44F-07EE0EFF42EA
SUMMARY:Réunion bulletin : choix des articles de mai 2020 en télé-bénévolat
CREATED:20191123T131348Z
DTSTAMP:20191123T131348Z
URL:https://www.paroisse-caudan.fr/tout-l-agenda/reunion-bulletin-choix-des-articles-7
DESCRIPTION: Malgré les circonstances un peu particulières, le Comité du Clocher souhaite maintenir la rédaction du prochain bulletin, afin d'apporter un peu de soutien et de compagnie à nos fidèles lecteurs.\NEt bien que les mouvements et services soient à l'arrêt ou du moins très ralentis, vous pouvez néanmoins nous faire part de vos témoignages ou projets pour "l'après confinement".\NPeut-être avez-vous un peu plus de temps actuellement pour rédiger un article, une prière, ou juste une pensée à mettre dans le "courrier des lecteurs" ?\NToute participation, quelle qu'elle soit, sera la bienvenue. \NLe prochain bulletin paraîtra probablement via le site Internet de la Paroisse.
X-ALT-DESC;FMTTYPE=text/html:<p style="text-align: center;">&nbsp;Malgré les circonstances un peu particulières,&nbsp;<br />le Comité du Clocher souhaite maintenir la rédaction du prochain bulletin,&nbsp;<br />afin d'apporter un peu de soutien et de compagnie à nos fidèles lecteurs.</p><p style="text-align: center;">Et bien que les mouvements et services soient à l'arrêt ou du moins très ralentis,&nbsp;<br />vous pouvez néanmoins nous faire part de vos témoignages&nbsp;<br />ou projets pour "l'après confinement".</p><p style="text-align: center;">Peut-être avez-vous un peu plus de temps actuellement pour rédiger un article,&nbsp;<br />une prière, ou juste une pensée à mettre dans le "courrier des lecteurs" ?</p><p style="text-align: center;">Toute participation, quelle qu'elle soit, sera la bienvenue.&nbsp;</p><p style="text-align: center;">Le prochain bulletin paraîtra probablement via le site Internet de la Paroisse.</p>
LAST-MODIFIED:20200530T072346Z
SEQUENCE:16308598
X-ACCESS:1
X-HITS:261
X-COLOR:d5edd7
X-IMAGE-FULL:https://www.paroisse-caudan.fr/images/stories/Mouvements/Bulletin.jpg
X-IMAGE-INTRO:https://www.paroisse-caudan.fr/images/stories/Mouvements/miniatures/Bulletin-miniature.jpg
X-SHOW-END-TIME:1
END:VEVENT
BEGIN:VEVENT
DTSTART;TZID=Europe/Paris:20200423T180000
DTEND;TZID=Europe/Paris:20200423T193000
UID:1233D4F2-C09B-4C53-8278-70E2B96334EF
SUMMARY:Réunion bulletin en télé-bénévolat : relecture
CREATED:20191123T141352Z
DTSTAMP:20191123T141352Z
URL:https://www.paroisse-caudan.fr/tout-l-agenda/reunion-bulletin-relecture-6
DESCRIPTION:
X-ALT-DESC;FMTTYPE=text/html:<p><a href="index.php?option=com_content&amp;view=category&amp;layout=blog&amp;id=85&amp;filter_tag[0]=&amp;Itemid=162"></a></p>
LAST-MODIFIED:20200530T072430Z
SEQUENCE:16305038
X-ACCESS:1
X-HITS:446
X-COLOR:d5edd7
X-IMAGE-FULL:https://www.paroisse-caudan.fr/images/stories/Mouvements/Bulletin.jpg
X-IMAGE-INTRO:https://www.paroisse-caudan.fr/images/stories/Mouvements/miniatures/Bulletin-miniature.jpg
X-SHOW-END-TIME:1
END:VEVENT
BEGIN:VEVENT
DTSTART;TZID=Europe/Paris:20200515T180000
DTEND;TZID=Europe/Paris:20200515T193000
UID:159802EB-D074-4D0B-99F0-7002CC77D5CF
SUMMARY:Réunion bulletin en télé-bénévolat : choix des articles de juin 2020
CREATED:20191123T131348Z
DTSTAMP:20191123T131348Z
URL:https://www.paroisse-caudan.fr/tout-l-agenda/reunion-bulletin-choix-des-articles-8
DESCRIPTION:
X-ALT-DESC;FMTTYPE=text/html:<p><a href="index.php?option=com_content&amp;view=category&amp;layout=blog&amp;id=85&amp;filter_tag[0]=&amp;Itemid=162"></a></p>
LAST-MODIFIED:20200530T072531Z
SEQUENCE:16308703
X-ACCESS:1
X-HITS:429
X-COLOR:d5edd7
X-IMAGE-FULL:https://www.paroisse-caudan.fr/images/stories/Mouvements/Bulletin.jpg
X-IMAGE-INTRO:https://www.paroisse-caudan.fr/images/stories/Mouvements/miniatures/Bulletin-miniature.jpg
X-SHOW-END-TIME:1
END:VEVENT
BEGIN:VEVENT
DTSTART;TZID=Europe/Paris:20200529T180000
DTEND;TZID=Europe/Paris:20200529T193000
UID:1D433D69-1AB8-469A-9660-97CF753C72EE
SUMMARY:Réunion bulletin en télé-bénévolat : relecture
CREATED:20191123T141352Z
DTSTAMP:20191123T141352Z
URL:https://www.paroisse-caudan.fr/tout-l-agenda/reunion-bulletin-relecture-7
DESCRIPTION:
X-ALT-DESC;FMTTYPE=text/html:<p><a href="index.php?option=com_content&amp;view=category&amp;layout=blog&amp;id=85&amp;filter_tag[0]=&amp;Itemid=162"></a></p>
LAST-MODIFIED:20200530T072547Z
SEQUENCE:16305115
X-ACCESS:1
X-HITS:403
X-COLOR:d5edd7
X-IMAGE-FULL:https://www.paroisse-caudan.fr/images/stories/Mouvements/Bulletin.jpg
X-IMAGE-INTRO:https://www.paroisse-caudan.fr/images/stories/Mouvements/miniatures/Bulletin-miniature.jpg
X-SHOW-END-TIME:1
END:VEVENT
BEGIN:VEVENT
DTSTART;TZID=Europe/Paris:20200619T180000
DTEND;TZID=Europe/Paris:20200619T193000
UID:90D20A31-A95F-4A9D-B02F-B3A107EB0746
SUMMARY:Réunion bulletin en télé-bénévolat : choix des articles de l'été 2020
CREATED:20191123T131348Z
DTSTAMP:20191123T131348Z
URL:https://www.paroisse-caudan.fr/tout-l-agenda/reunion-bulletin-choix-des-articles-9
DESCRIPTION:
X-ALT-DESC;FMTTYPE=text/html:<p><a href="index.php?option=com_content&amp;view=category&amp;layout=blog&amp;id=85&amp;filter_tag[0]=&amp;Itemid=162"></a></p>
LAST-MODIFIED:20200530T072138Z
SEQUENCE:16308470
X-ACCESS:1
X-HITS:381
X-COLOR:d5edd7
X-IMAGE-FULL:https://www.paroisse-caudan.fr/images/stories/Mouvements/Bulletin.jpg
X-IMAGE-INTRO:https://www.paroisse-caudan.fr/images/stories/Mouvements/miniatures/Bulletin-miniature.jpg
X-SHOW-END-TIME:1
END:VEVENT
BEGIN:VEVENT
DTSTART;TZID=Europe/Paris:20200626T180000
DTEND;TZID=Europe/Paris:20200626T193000
UID:B337C5E1-5805-4412-9326-C0951CE623FB
SUMMARY:Réunion bulletin en télé-bénévolat : relecture
CREATED:20191123T141352Z
DTSTAMP:20191123T141352Z
URL:https://www.paroisse-caudan.fr/tout-l-agenda/reunion-bulletin-relecture-8
DESCRIPTION:
X-ALT-DESC;FMTTYPE=text/html:<p><a href="index.php?option=com_content&amp;view=category&amp;layout=blog&amp;id=85&amp;filter_tag[0]=&amp;Itemid=162"></a></p>
LAST-MODIFIED:20200530T072120Z
SEQUENCE:16304848
X-ACCESS:1
X-HITS:326
X-COLOR:d5edd7
X-IMAGE-FULL:https://www.paroisse-caudan.fr/images/stories/Mouvements/Bulletin.jpg
X-IMAGE-INTRO:https://www.paroisse-caudan.fr/images/stories/Mouvements/miniatures/Bulletin-miniature.jpg
X-SHOW-END-TIME:1
END:VEVENT
BEGIN:VEVENT
DTSTART;TZID=Europe/Paris:20200911T181500
DTEND;TZID=Europe/Paris:20200911T190000
UID:20D942F8-BB93-4AEE-A44B-178B62E8711E
SUMMARY:Réunion bulletin en télé-bénévolat : choix des articles d'octobre 2020
CREATED:20191123T131348Z
DTSTAMP:20191123T131348Z
URL:https://www.paroisse-caudan.fr/tout-l-agenda/reunion-bulletin-en-tele-benevolat-choix-des-articles-d-octobre-2020
DESCRIPTION:
X-ALT-DESC;FMTTYPE=text/html:<p><a href="index.php?option=com_content&amp;view=category&amp;layout=blog&amp;id=85&amp;filter_tag[0]=&amp;Itemid=162"></a></p>
LAST-MODIFIED:20200912T075021Z
SEQUENCE:25382193
X-ACCESS:1
X-HITS:485
X-COLOR:d5edd7
X-IMAGE-FULL:https://www.paroisse-caudan.fr/images/stories/Mouvements/Bulletin.jpg
X-IMAGE-INTRO:https://www.paroisse-caudan.fr/images/stories/Mouvements/miniatures/Bulletin-miniature.jpg
X-SHOW-END-TIME:0
END:VEVENT
BEGIN:VEVENT
DTSTART;TZID=Europe/Paris:20200925T181500
DTEND;TZID=Europe/Paris:20200925T193000
UID:8A8DA546-8388-49EC-9EC3-64254C1052CB
SUMMARY:Réunion bulletin en télé-bénévolat : relecture
CREATED:20191123T141352Z
DTSTAMP:20191123T141352Z
URL:https://www.paroisse-caudan.fr/tout-l-agenda/reunion-bulletin-en-tele-benevolat-relecture
DESCRIPTION:
X-ALT-DESC;FMTTYPE=text/html:<p><a href="index.php?option=com_content&amp;view=category&amp;layout=blog&amp;id=85&amp;filter_tag[0]=&amp;Itemid=162"></a></p>
LAST-MODIFIED:20200912T075141Z
SEQUENCE:25378669
X-ACCESS:1
X-HITS:388
X-COLOR:d5edd7
X-IMAGE-FULL:https://www.paroisse-caudan.fr/images/stories/Mouvements/Bulletin.jpg
X-IMAGE-INTRO:https://www.paroisse-caudan.fr/images/stories/Mouvements/miniatures/Bulletin-miniature.jpg
X-SHOW-END-TIME:0
END:VEVENT
BEGIN:VEVENT
DTSTART;TZID=Europe/Paris:20201016T181500
DTEND;TZID=Europe/Paris:20201016T193000
UID:A032D2C1-51E8-4257-BD98-BCD616FB5668
SUMMARY:Réunion bulletin en télé-bénévolat : choix des articles de novembre 2020
CREATED:20191123T131348Z
DTSTAMP:20191123T131348Z
URL:https://www.paroisse-caudan.fr/tout-l-agenda/reunion-bulletin-en-tele-benevolat-choix-des-articles-de-novembre-2020
DESCRIPTION:
X-ALT-DESC;FMTTYPE=text/html:<p><a href="index.php?option=com_content&amp;view=category&amp;layout=blog&amp;id=85&amp;filter_tag[0]=&amp;Itemid=162"></a></p>
LAST-MODIFIED:20200912T072021Z
SEQUENCE:25380393
X-ACCESS:1
X-HITS:226
X-COLOR:d5edd7
X-IMAGE-FULL:https://www.paroisse-caudan.fr/images/stories/Mouvements/Bulletin.jpg
X-IMAGE-INTRO:https://www.paroisse-caudan.fr/images/stories/Mouvements/miniatures/Bulletin-miniature.jpg
X-SHOW-END-TIME:0
END:VEVENT
BEGIN:VEVENT
DTSTART;TZID=Europe/Paris:20201030T181500
DTEND;TZID=Europe/Paris:20201030T193000
UID:A9345937-E349-449B-9F8A-7D4C8BF15D09
SUMMARY:Réunion bulletin en télé-bénévolat : relecture
CREATED:20191123T141352Z
DTSTAMP:20191123T141352Z
URL:https://www.paroisse-caudan.fr/tout-l-agenda/reunion-bulletin-en-tele-benevolat-relecture-2
DESCRIPTION:
X-ALT-DESC;FMTTYPE=text/html:<p><a href="index.php?option=com_content&amp;view=category&amp;layout=blog&amp;id=85&amp;filter_tag[0]=&amp;Itemid=162"></a></p>
LAST-MODIFIED:20200912T075154Z
SEQUENCE:25378682
X-ACCESS:1
X-HITS:276
X-COLOR:d5edd7
X-IMAGE-FULL:https://www.paroisse-caudan.fr/images/stories/Mouvements/Bulletin.jpg
X-IMAGE-INTRO:https://www.paroisse-caudan.fr/images/stories/Mouvements/miniatures/Bulletin-miniature.jpg
X-SHOW-END-TIME:0
END:VEVENT
BEGIN:VEVENT
DTSTART;TZID=Europe/Paris:20201113T181500
DTEND;TZID=Europe/Paris:20201113T194500
UID:6F78CDB1-1430-4169-A63F-7FCC046B12C0
SUMMARY:Réunion bulletin en télé-bénévolat : choix des articles de décembre 2020
CREATED:20191123T131348Z
DTSTAMP:20191123T131348Z
URL:https://www.paroisse-caudan.fr/tout-l-agenda/reunion-bulletin-en-tele-benevolat-choix-des-articles-de-decembre-2020
DESCRIPTION:
X-ALT-DESC;FMTTYPE=text/html:<p><a href="index.php?option=com_content&amp;view=category&amp;layout=blog&amp;id=85&amp;filter_tag[0]=&amp;Itemid=162"></a></p>
LAST-MODIFIED:20200912T075108Z
SEQUENCE:25382240
X-ACCESS:1
X-HITS:316
X-COLOR:d5edd7
X-IMAGE-FULL:https://www.paroisse-caudan.fr/images/stories/Mouvements/Bulletin.jpg
X-IMAGE-INTRO:https://www.paroisse-caudan.fr/images/stories/Mouvements/miniatures/Bulletin-miniature.jpg
X-SHOW-END-TIME:0
END:VEVENT
BEGIN:VEVENT
DTSTART;TZID=Europe/Paris:20201127T181500
DTEND;TZID=Europe/Paris:20201127T194500
UID:85513BB0-420E-41B0-A8A5-EC996CC53704
SUMMARY:Réunion bulletin en télé-bénévolat : relecture
CREATED:20191123T141352Z
DTSTAMP:20191123T141352Z
URL:https://www.paroisse-caudan.fr/tout-l-agenda/reunion-bulletin-en-tele-benevolat-relecture-3
DESCRIPTION:
X-ALT-DESC;FMTTYPE=text/html:<p><a href="index.php?option=com_content&amp;view=category&amp;layout=blog&amp;id=85&amp;filter_tag[0]=&amp;Itemid=162"></a></p>
LAST-MODIFIED:20200912T075221Z
SEQUENCE:25378709
X-ACCESS:1
X-HITS:259
X-COLOR:d5edd7
X-IMAGE-FULL:https://www.paroisse-caudan.fr/images/stories/Mouvements/Bulletin.jpg
X-IMAGE-INTRO:https://www.paroisse-caudan.fr/images/stories/Mouvements/miniatures/Bulletin-miniature.jpg
X-SHOW-END-TIME:0
END:VEVENT
BEGIN:VEVENT
DTSTART;TZID=Europe/Paris:20201204T181500
DTEND;TZID=Europe/Paris:20201204T194500
UID:051DEF66-578C-438D-8444-1F52808CDC78
SUMMARY:Réunion bulletin en télé-bénévolat : choix des articles de janvier 2021
CREATED:20191123T131348Z
DTSTAMP:20191123T131348Z
URL:https://www.paroisse-caudan.fr/tout-l-agenda/reunion-bulletin-en-tele-benevolat-choix-des-articles-de-janvier-2021
DESCRIPTION:
X-ALT-DESC;FMTTYPE=text/html:<p><a href="index.php?option=com_content&amp;view=category&amp;layout=blog&amp;id=85&amp;filter_tag[0]=&amp;Itemid=162"></a></p>
LAST-MODIFIED:20200912T075301Z
SEQUENCE:25382353
X-ACCESS:1
X-HITS:216
X-COLOR:d5edd7
X-IMAGE-FULL:https://www.paroisse-caudan.fr/images/stories/Mouvements/Bulletin.jpg
X-IMAGE-INTRO:https://www.paroisse-caudan.fr/images/stories/Mouvements/miniatures/Bulletin-miniature.jpg
X-SHOW-END-TIME:0
END:VEVENT
BEGIN:VEVENT
DTSTART;TZID=Europe/Paris:20201218T183000
DTEND;TZID=Europe/Paris:20201218T200000
UID:C0C5A808-6664-4796-AADF-FB878D27A7EF
SUMMARY:Dernière réunion bulletin en télé-bénévolat : relecture
CREATED:20191123T141352Z
DTSTAMP:20191123T141352Z
URL:https://www.paroisse-caudan.fr/tout-l-agenda/reunion-bulletin-en-tele-benevolat-relecture-4
DESCRIPTION:
X-ALT-DESC;FMTTYPE=text/html:<p><a href="index.php?option=com_content&amp;view=category&amp;layout=blog&amp;id=85&amp;filter_tag[0]=&amp;Itemid=162"></a></p>
LAST-MODIFIED:20201215T135809Z
SEQUENCE:33522257
X-ACCESS:1
X-HITS:177
X-COLOR:d5edd7
X-IMAGE-FULL:https://www.paroisse-caudan.fr/images/stories/Mouvements/Bulletin.jpg
X-IMAGE-INTRO:https://www.paroisse-caudan.fr/images/stories/Mouvements/miniatures/Bulletin-miniature.jpg
X-SHOW-END-TIME:0
END:VEVENT
END:VCALENDAR